BEGIN:VCALENDAR
PRODID:-//Microsoft Corporation//Outlook 12.0 MIMEDIR//EN
VERSION:2.0
CALSCALE:GREGORIAN
BEGIN:VEVENT
UID: 11b206c7-ef0c-4131-a770-ffcf35df9381
SUMMARY:Oru Põhikooli tehnoloogiapäev
DTSTAMP:20260428
DTSTART:20260428
DTEND:20260429
DURATION:P1D
LOCATION:Oru Põhikool
DESCRIPTION: <p>🚀 Tehnoloogiapäev kutsub Sind avastama ja katsetama!</p><p>Kooli tulevad:<br>👉 Merkuur oma mobiilse õppeklassiga<br>👉 Solaride meeskond, kellega saad koos ehitada tuulejõul liikuva auto (https://solaride.ee/solarideist/inseneeria)<br>👉 Robotiklubi, kellega ehitada rajal liikuv robot (https://www.robotiklubi.ee/teenused/t%C3%B6%C3%B6toad)<br>👉 Reinar Tõruke, kes viib läbi drooniohutuse ja lennutamise õpitoa<br>👉 STEM Kose meeskond, kes tutvustavad 3D printimise põhimõtteid – ideest valmis tooteni<br>🏍️ Kairo Katkosilt #718 oma mototehnikaga</p><p>Meie oma õpetajad:<br>🎓 Tauno näitab, kuidas teha tööd nii, et töö sind kiidab<br>🎓 Krista õpetab joonised ellu äratama<br>🎓 Merilin selgitab vooluringi põhitõdesid<br>🎓 Egle pakub kõigile 🍦 MASINAJÄÄTIST<br>🎓 jne...</p><p>Ja veel enamat ootab Sind kohapeal!</p><p>📍 Vaata täpset ajakava siit: https://shorturl.at/RfguP<br>Lisasakkidel otsi enda nimi, et teaksid, millal ja kus pead olema.</p><p>❓ Kui jääd hätta või tekib küsimusi, otsi üles õpetaja Angela – ta aitab sind!</p><p>👉 Võta kindlasti kaasa:<br>- 1€ jäätise jaoks<br>- laetud akuga puldiauto</p><p><strong>Link: </strong>https://www.orukool.edu.ee/et/sundmuste-kalender/oru-pohikooli-tehnoloogiapaev</p><p><strong>Hind: </strong></p>
STATUS:CONFIRMED
SEQUENCE:3
X-ALT-DESC;FMTTYPE=text/html:<p>🚀 Tehnoloogiapäev kutsub Sind avastama ja katsetama!</p><p>Kooli tulevad:<br>👉 Merkuur oma mobiilse õppeklassiga<br>👉 Solaride meeskond, kellega saad koos ehitada tuulejõul liikuva auto (https://solaride.ee/solarideist/inseneeria)<br>👉 Robotiklubi, kellega ehitada rajal liikuv robot (https://www.robotiklubi.ee/teenused/t%C3%B6%C3%B6toad)<br>👉 Reinar Tõruke, kes viib läbi drooniohutuse ja lennutamise õpitoa<br>👉 STEM Kose meeskond, kes tutvustavad 3D printimise põhimõtteid – ideest valmis tooteni<br>🏍️ Kairo Katkosilt #718 oma mototehnikaga</p><p>Meie oma õpetajad:<br>🎓 Tauno näitab, kuidas teha tööd nii, et töö sind kiidab<br>🎓 Krista õpetab joonised ellu äratama<br>🎓 Merilin selgitab vooluringi põhitõdesid<br>🎓 Egle pakub kõigile 🍦 MASINAJÄÄTIST<br>🎓 jne...</p><p>Ja veel enamat ootab Sind kohapeal!</p><p>📍 Vaata täpset ajakava siit: https://shorturl.at/RfguP<br>Lisasakkidel otsi enda nimi, et teaksid, millal ja kus pead olema.</p><p>❓ Kui jääd hätta või tekib küsimusi, otsi üles õpetaja Angela – ta aitab sind!</p><p>👉 Võta kindlasti kaasa:<br>- 1€ jäätise jaoks<br>- laetud akuga puldiauto</p><p><strong>Link: </strong>https://www.orukool.edu.ee/et/sundmuste-kalender/oru-pohikooli-tehnoloogiapaev</p><p><strong>Hind: </strong></p>
X-MICROSOFT-CDO-BUSYSTATUS:OOF
X-MICROSOFT-CDO-IMPORTANCE:1
X-MICROSOFT-DISALLOW-COUNTER:FALSE
X-MS-OLK-ALLOWEXTERNCHECK:TRUE
X-MS-OLK-CONFTYPE:0
X-MICROSOFT-CDO-ALLDAYEVENT:1
X-MICROSOFT-MSNCALENDAR-ALLDAYEVENT:1
END:VEVENT
END:VCALENDAR